2.52007745206356
0.00000000000000
0.00000000000000
-2.52007745206356
10536.71121060103178
208200.35546676069498
